BEGIN:VCALENDAR
VERSION:2.0
PRODID:-//Structural Algorithms - ECPv6.15.20//NONSGML v1.0//EN
CALSCALE:GREGORIAN
METHOD:PUBLISH
X-WR-CALNAME:Structural Algorithms
X-ORIGINAL-URL:https://www.structuralalgorithms.com
X-WR-CALDESC:Events for Structural Algorithms
REFRESH-INTERVAL;VALUE=DURATION:PT1H
X-Robots-Tag:noindex
X-PUBLISHED-TTL:PT1H
BEGIN:VTIMEZONE
TZID:UTC
BEGIN:STANDARD
TZOFFSETFROM:+0000
TZOFFSETTO:+0000
TZNAME:UTC
DTSTART:20160101T000000
END:STANDARD
END:VTIMEZONE
BEGIN:VEVENT
DTSTART;TZID=UTC:20180526T090000
DTEND;TZID=UTC:20180528T170000
DTSTAMP:20260423T162224
CREATED:20180219T172648Z
LAST-MODIFIED:20180219T172648Z
UID:433-1527325200-1527526800@www.structuralalgorithms.com
SUMMARY:Level 2: The Cervical\, Thoracic & Rib Algorithms
DESCRIPTION:New Orleans\, Louisiana﻿ \nFees: $675 / $600 before April 30\, 2018\nHold place with\nNon Refundable deposit of $300
URL:https://www.structuralalgorithms.com/event/level-2-cervical-thoracic-rib-algorithms/
LOCATION:New Orleans Healing Center\, Wild Loctus Yoga Studio\, 2372 St Claude Ave\, New Orleans\, LA\, 70117\, United States
END:VEVENT
BEGIN:VEVENT
DTSTART;TZID=UTC:20170929T080000
DTEND;TZID=UTC:20171001T170000
DTSTAMP:20260423T162224
CREATED:20170612T181520Z
LAST-MODIFIED:20170619T233617Z
UID:369-1506672000-1506877200@www.structuralalgorithms.com
SUMMARY:New Orleans\, LA: Level 1
DESCRIPTION:Resolving Low Back Pain:  The Lumbar/Pelvic Algorithms \n$600 if paid before August 20th. after it is $700
URL:https://www.structuralalgorithms.com/event/test-event-2/
LOCATION:New Orleans Healing Center\, Wild Loctus Yoga Studio\, 2372 St Claude Ave\, New Orleans\, LA\, 70117\, United States
ATTACH;FMTTYPE=image/jpeg:https://www.structuralalgorithms.com/wp-content/uploads/2017/02/lower-back-pain.jpg
END:VEVENT
BEGIN:VEVENT
DTSTART;TZID=UTC:20170722T090000
DTEND;TZID=UTC:20170724T170000
DTSTAMP:20260423T162224
CREATED:20170613T081242Z
LAST-MODIFIED:20170616T163526Z
UID:365-1500714000-1500915600@www.structuralalgorithms.com
SUMMARY:New York: Level 2
DESCRIPTION: The Cervical\, Thoracic & Rib Algorithms\n 
URL:https://www.structuralalgorithms.com/event/test-events-1/
LOCATION:Ste. 701a\, 119 W. 23rd St.\, New York\, NY\, United States
ATTACH;FMTTYPE=image/jpeg:https://www.structuralalgorithms.com/wp-content/uploads/2017/02/looking-at-phone-white-bkgd.jpg
END:VEVENT
END:VCALENDAR